BEGIN:VCALENDAR
VERSION:2.0
PRODID:-//Heathfield International School - ECPv6.15.20//NONSGML v1.0//EN
CALSCALE:GREGORIAN
METHOD:PUBLISH
X-ORIGINAL-URL:https://heathfield.ac.th
X-WR-CALDESC:Events for Heathfield International School
REFRESH-INTERVAL;VALUE=DURATION:PT1H
X-Robots-Tag:noindex
X-PUBLISHED-TTL:PT1H
BEGIN:VTIMEZONE
TZID:Asia/Bangkok
BEGIN:STANDARD
TZOFFSETFROM:+0700
TZOFFSETTO:+0700
TZNAME:+07
DTSTART:20230101T000000
END:STANDARD
END:VTIMEZONE
BEGIN:VEVENT
DTSTART;VALUE=DATE:20241014
DTEND;VALUE=DATE:20241016
DTSTAMP:20260425T172409
CREATED:20240917T064435Z
LAST-MODIFIED:20240917T064435Z
UID:12913-1728892800-1728979199@heathfield.ac.th
SUMMARY:Start Half Term 1
DESCRIPTION:
URL:https://heathfield.ac.th/event/start-half-term-1/
CATEGORIES:Holidays for pupils & teachers
END:VEVENT
BEGIN:VEVENT
DTSTART;VALUE=DATE:20241014
DTEND;VALUE=DATE:20241016
DTSTAMP:20260425T172409
CREATED:20240917T064445Z
LAST-MODIFIED:20240917T064445Z
UID:12914-1728892800-1728979199@heathfield.ac.th
SUMMARY:Off. Closed (Substitution for H.M. The Late King’s & Chulalongkorn Memorial Day)
DESCRIPTION:
URL:https://heathfield.ac.th/event/off-closed-substitution-for-h-m-the-late-kings-chulalongkorn-memorial-day/
CATEGORIES:Holidays for pupils & teachers
END:VEVENT
END:VCALENDAR