BEGIN:VCALENDAR
VERSION:2.0
PRODID:-//Heathfield International School - ECPv6.15.20//NONSGML v1.0//EN
CALSCALE:GREGORIAN
METHOD:PUBLISH
X-WR-CALNAME:Heathfield International School
X-ORIGINAL-URL:https://heathfield.ac.th
X-WR-CALDESC:Events for Heathfield International School
REFRESH-INTERVAL;VALUE=DURATION:PT1H
X-Robots-Tag:noindex
X-PUBLISHED-TTL:PT1H
BEGIN:VTIMEZONE
TZID:Asia/Bangkok
BEGIN:STANDARD
TZOFFSETFROM:+0700
TZOFFSETTO:+0700
TZNAME:+07
DTSTART:20240101T000000
END:STANDARD
END:VTIMEZONE
BEGIN:VEVENT
DTSTART;VALUE=DATE:20250210
DTEND;VALUE=DATE:20250216
DTSTAMP:20260425T110801
CREATED:20240917T064446Z
LAST-MODIFIED:20250115T041240Z
UID:12918-1739174400-1739606399@heathfield.ac.th
SUMMARY:Half-Term Break
DESCRIPTION:
URL:https://heathfield.ac.th/event/half-term-break-16/
CATEGORIES:Holidays for pupils & teachers
END:VEVENT
BEGIN:VEVENT
DTSTART;VALUE=DATE:20250212
DTEND;VALUE=DATE:20250214
DTSTAMP:20260425T110801
CREATED:20240917T064453Z
LAST-MODIFIED:20240917T064453Z
UID:12919-1739347200-1739433599@heathfield.ac.th
SUMMARY:Office Closed (Subsititute Macha Bucha Day)
DESCRIPTION:
URL:https://heathfield.ac.th/event/office-closed-subsititute-macha-bucha-day/
CATEGORIES:Holidays for pupils & teachers
END:VEVENT
END:VCALENDAR