BEGIN:VCALENDAR
VERSION:2.0
PRODID:-//Heathfield International School - ECPv6.15.20//NONSGML v1.0//EN
CALSCALE:GREGORIAN
METHOD:PUBLISH
X-ORIGINAL-URL:https://heathfield.ac.th
X-WR-CALDESC:Events for Heathfield International School
REFRESH-INTERVAL;VALUE=DURATION:PT1H
X-Robots-Tag:noindex
X-PUBLISHED-TTL:PT1H
BEGIN:VTIMEZONE
TZID:Asia/Bangkok
BEGIN:STANDARD
TZOFFSETFROM:+0700
TZOFFSETTO:+0700
TZNAME:+07
DTSTART:20230101T000000
END:STANDARD
END:VTIMEZONE
BEGIN:VEVENT
DTSTART;VALUE=DATE:20241021
DTEND;VALUE=DATE:20241023
DTSTAMP:20260420T104458
CREATED:20240917T064523Z
LAST-MODIFIED:20240917T064524Z
UID:12936-1729497600-1729583999@heathfield.ac.th
SUMMARY:First Day of school\, Term of 1b
DESCRIPTION:
URL:https://heathfield.ac.th/event/first-day-of-school-term-of-1b/
CATEGORIES:Start of Term
END:VEVENT
END:VCALENDAR