BEGIN:VCALENDAR
VERSION:2.0
PRODID:-//Heathfield International School - ECPv6.15.20//NONSGML v1.0//EN
CALSCALE:GREGORIAN
METHOD:PUBLISH
X-ORIGINAL-URL:https://heathfield.ac.th
X-WR-CALDESC:Events for Heathfield International School
REFRESH-INTERVAL;VALUE=DURATION:PT1H
X-Robots-Tag:noindex
X-PUBLISHED-TTL:PT1H
BEGIN:VTIMEZONE
TZID:Asia/Bangkok
BEGIN:STANDARD
TZOFFSETFROM:+0700
TZOFFSETTO:+0700
TZNAME:+07
DTSTART:20180101T000000
END:STANDARD
END:VTIMEZONE
BEGIN:VEVENT
DTSTART;VALUE=DATE:20191014
DTEND;VALUE=DATE:20191016
DTSTAMP:20260426T052817
CREATED:20240917T064248Z
LAST-MODIFIED:20240917T064248Z
UID:12854-1571040000-1571126399@heathfield.ac.th
SUMMARY:HOLIDAY (Death Anniversary Of King Bhumibol)
DESCRIPTION:
URL:https://heathfield.ac.th/event/holiday-death-anniversary-of-king-bhumibol-3/
CATEGORIES:Holidays for pupils & teachers
END:VEVENT
BEGIN:VEVENT
DTSTART;VALUE=DATE:20191014
DTEND;VALUE=DATE:20191016
DTSTAMP:20260426T052817
CREATED:20240917T064249Z
LAST-MODIFIED:20240917T064249Z
UID:12855-1571040000-1571126399@heathfield.ac.th
SUMMARY:Half-Term Break
DESCRIPTION:
URL:https://heathfield.ac.th/event/half-term-break-12/
CATEGORIES:Holidays for pupils & teachers
END:VEVENT
BEGIN:VEVENT
DTSTART;VALUE=DATE:20191021
DTEND;VALUE=DATE:20191023
DTSTAMP:20260426T052817
CREATED:20240917T065008Z
LAST-MODIFIED:20240917T065008Z
UID:13066-1571644800-1571731199@heathfield.ac.th
SUMMARY:Term recommences
DESCRIPTION:
URL:https://heathfield.ac.th/event/term-recommences/
CATEGORIES:Important School Days
END:VEVENT
BEGIN:VEVENT
DTSTART;VALUE=DATE:20191023
DTEND;VALUE=DATE:20191025
DTSTAMP:20260426T052817
CREATED:20240917T064249Z
LAST-MODIFIED:20240917T064249Z
UID:12856-1571817600-1571903999@heathfield.ac.th
SUMMARY:HOLIDAY (Chulalongkorn Day)
DESCRIPTION:
URL:https://heathfield.ac.th/event/holiday-chulalongkorn-day-2/
CATEGORIES:Holidays for pupils & teachers
END:VEVENT
END:VCALENDAR