BEGIN:VCALENDAR
VERSION:2.0
PRODID:-//Heathfield International School - ECPv6.15.20//NONSGML v1.0//EN
CALSCALE:GREGORIAN
METHOD:PUBLISH
X-WR-CALNAME:Heathfield International School
X-ORIGINAL-URL:https://heathfield.ac.th
X-WR-CALDESC:Events for Heathfield International School
REFRESH-INTERVAL;VALUE=DURATION:PT1H
X-Robots-Tag:noindex
X-PUBLISHED-TTL:PT1H
BEGIN:VTIMEZONE
TZID:Asia/Bangkok
BEGIN:STANDARD
TZOFFSETFROM:+0700
TZOFFSETTO:+0700
TZNAME:+07
DTSTART:20180101T000000
END:STANDARD
END:VTIMEZONE
BEGIN:VEVENT
DTSTART;VALUE=DATE:20191205
DTEND;VALUE=DATE:20191207
DTSTAMP:20260426T023628
CREATED:20240917T064249Z
LAST-MODIFIED:20240917T064249Z
UID:12857-1575532800-1575619199@heathfield.ac.th
SUMMARY:HOLIDAY (HM The Late King’s Birthday)
DESCRIPTION:
URL:https://heathfield.ac.th/event/holiday-hm-the-late-kings-birthday-2/
CATEGORIES:Holidays for pupils & teachers
END:VEVENT
BEGIN:VEVENT
DTSTART;VALUE=DATE:20191220
DTEND;VALUE=DATE:20191222
DTSTAMP:20260426T023628
CREATED:20240917T065009Z
LAST-MODIFIED:20240917T065009Z
UID:13067-1576828800-1576915199@heathfield.ac.th
SUMMARY:Last Day of Term 1
DESCRIPTION:
URL:https://heathfield.ac.th/event/last-day-of-term-1/
CATEGORIES:Important School Days
END:VEVENT
BEGIN:VEVENT
DTSTART;VALUE=DATE:20191223
DTEND;VALUE=DATE:20191225
DTSTAMP:20260426T023628
CREATED:20240917T064249Z
LAST-MODIFIED:20240917T064249Z
UID:12858-1577088000-1577174399@heathfield.ac.th
SUMMARY:Christmas Break
DESCRIPTION:
URL:https://heathfield.ac.th/event/christmas-break-4/
CATEGORIES:Holidays for pupils & teachers
END:VEVENT
BEGIN:VEVENT
DTSTART;VALUE=DATE:20191231
DTEND;VALUE=DATE:20200102
DTSTAMP:20260426T023628
CREATED:20240917T064252Z
LAST-MODIFIED:20240917T064252Z
UID:12859-1577779200-1577865599@heathfield.ac.th
SUMMARY:Office Closed (New Year Eve)
DESCRIPTION:
URL:https://heathfield.ac.th/event/office-closed-new-year-eve/
CATEGORIES:Holidays for pupils & teachers
END:VEVENT
END:VCALENDAR