BEGIN:VCALENDAR
VERSION:2.0
PRODID:-//Heathfield International School - ECPv6.15.20//NONSGML v1.0//EN
CALSCALE:GREGORIAN
METHOD:PUBLISH
X-WR-CALNAME:Heathfield International School
X-ORIGINAL-URL:https://heathfield.ac.th
X-WR-CALDESC:Events for Heathfield International School
REFRESH-INTERVAL;VALUE=DURATION:PT1H
X-Robots-Tag:noindex
X-PUBLISHED-TTL:PT1H
BEGIN:VTIMEZONE
TZID:Asia/Bangkok
BEGIN:STANDARD
TZOFFSETFROM:+0700
TZOFFSETTO:+0700
TZNAME:+07
DTSTART:20190101T000000
END:STANDARD
END:VTIMEZONE
BEGIN:VEVENT
DTSTART;VALUE=DATE:20200101
DTEND;VALUE=DATE:20200103
DTSTAMP:20260426T011410
CREATED:20240917T064253Z
LAST-MODIFIED:20240917T064253Z
UID:12860-1577865600-1577951999@heathfield.ac.th
SUMMARY:New Year’s Break / 6th Staff Inset
DESCRIPTION:
URL:https://heathfield.ac.th/event/new-years-break-6th-staff-inset/
CATEGORIES:Holidays for pupils & teachers
END:VEVENT
BEGIN:VEVENT
DTSTART;VALUE=DATE:20200107
DTEND;VALUE=DATE:20200109
DTSTAMP:20260426T011410
CREATED:20240917T065009Z
LAST-MODIFIED:20240917T065009Z
UID:13068-1578384000-1578470399@heathfield.ac.th
SUMMARY:First Day of Term 2
DESCRIPTION:
URL:https://heathfield.ac.th/event/first-day-of-term-2/
CATEGORIES:Important School Days
END:VEVENT
END:VCALENDAR