BEGIN:VCALENDAR
VERSION:2.0
PRODID:-//Heathfield International School - ECPv6.15.20//NONSGML v1.0//EN
CALSCALE:GREGORIAN
METHOD:PUBLISH
X-ORIGINAL-URL:https://heathfield.ac.th
X-WR-CALDESC:Events for Heathfield International School
REFRESH-INTERVAL;VALUE=DURATION:PT1H
X-Robots-Tag:noindex
X-PUBLISHED-TTL:PT1H
BEGIN:VTIMEZONE
TZID:Asia/Bangkok
BEGIN:STANDARD
TZOFFSETFROM:+0700
TZOFFSETTO:+0700
TZNAME:+07
DTSTART:20190101T000000
END:STANDARD
END:VTIMEZONE
BEGIN:VEVENT
DTSTART;VALUE=DATE:20200406
DTEND;VALUE=DATE:20200408
DTSTAMP:20260425T204859
CREATED:20240917T064308Z
LAST-MODIFIED:20240917T064308Z
UID:12864-1586160000-1586246399@heathfield.ac.th
SUMMARY:Office Closed (Chakri Day)
DESCRIPTION:
URL:https://heathfield.ac.th/event/office-closed-chakri-day/
CATEGORIES:Holidays for pupils & teachers
END:VEVENT
BEGIN:VEVENT
DTSTART;VALUE=DATE:20200410
DTEND;VALUE=DATE:20200412
DTSTAMP:20260425T204859
CREATED:20240917T065009Z
LAST-MODIFIED:20240917T065009Z
UID:13070-1586505600-1586591999@heathfield.ac.th
SUMMARY:Last Day of Term 2
DESCRIPTION:
URL:https://heathfield.ac.th/event/last-day-of-term-2-4/
CATEGORIES:Important School Days
END:VEVENT
BEGIN:VEVENT
DTSTART;VALUE=DATE:20200412
DTEND;VALUE=DATE:20200414
DTSTAMP:20260425T204859
CREATED:20240917T064308Z
LAST-MODIFIED:20240917T064308Z
UID:12865-1586678400-1586764799@heathfield.ac.th
SUMMARY:End of Term 2 Break
DESCRIPTION:
URL:https://heathfield.ac.th/event/end-of-term-2-break/
CATEGORIES:Holidays for pupils & teachers
END:VEVENT
BEGIN:VEVENT
DTSTART;VALUE=DATE:20200413
DTEND;VALUE=DATE:20200415
DTSTAMP:20260425T204859
CREATED:20240917T064308Z
LAST-MODIFIED:20240917T064308Z
UID:12866-1586764800-1586851199@heathfield.ac.th
SUMMARY:Songkran Holidays/Observed
DESCRIPTION:
URL:https://heathfield.ac.th/event/songkran-holidays-observed-2/
CATEGORIES:Holidays for pupils & teachers
END:VEVENT
BEGIN:VEVENT
DTSTART;VALUE=DATE:20200413
DTEND;VALUE=DATE:20200415
DTSTAMP:20260425T204859
CREATED:20240917T064308Z
LAST-MODIFIED:20240917T064308Z
UID:12867-1586764800-1586851199@heathfield.ac.th
SUMMARY:School office closed
DESCRIPTION:
URL:https://heathfield.ac.th/event/school-office-closed/
CATEGORIES:Holidays for pupils & teachers
END:VEVENT
BEGIN:VEVENT
DTSTART;VALUE=DATE:20200416
DTEND;VALUE=DATE:20200418
DTSTAMP:20260425T204859
CREATED:20240917T064308Z
LAST-MODIFIED:20240917T064308Z
UID:12868-1587024000-1587110399@heathfield.ac.th
SUMMARY:Half Term Break
DESCRIPTION:
URL:https://heathfield.ac.th/event/half-term-break-14/
CATEGORIES:Holidays for pupils & teachers
END:VEVENT
BEGIN:VEVENT
DTSTART;VALUE=DATE:20200427
DTEND;VALUE=DATE:20200429
DTSTAMP:20260425T204859
CREATED:20240917T064311Z
LAST-MODIFIED:20240917T064311Z
UID:12869-1587974400-1588060799@heathfield.ac.th
SUMMARY:INSET
DESCRIPTION:
URL:https://heathfield.ac.th/event/inset/
CATEGORIES:Holidays for pupils & teachers
END:VEVENT
BEGIN:VEVENT
DTSTART;VALUE=DATE:20200428
DTEND;VALUE=DATE:20200430
DTSTAMP:20260425T204859
CREATED:20240917T065026Z
LAST-MODIFIED:20240917T065026Z
UID:13071-1588060800-1588147199@heathfield.ac.th
SUMMARY:1st Day of Term 3
DESCRIPTION:
URL:https://heathfield.ac.th/event/1st-day-of-term-3/
CATEGORIES:Important School Days
END:VEVENT
END:VCALENDAR