BEGIN:VCALENDAR
VERSION:2.0
PRODID:-//Heathfield International School - ECPv6.15.20//NONSGML v1.0//EN
CALSCALE:GREGORIAN
METHOD:PUBLISH
X-ORIGINAL-URL:https://heathfield.ac.th
X-WR-CALDESC:Events for Heathfield International School
REFRESH-INTERVAL;VALUE=DURATION:PT1H
X-Robots-Tag:noindex
X-PUBLISHED-TTL:PT1H
BEGIN:VTIMEZONE
TZID:Asia/Bangkok
BEGIN:STANDARD
TZOFFSETFROM:+0700
TZOFFSETTO:+0700
TZNAME:+07
DTSTART:20190101T000000
END:STANDARD
END:VTIMEZONE
BEGIN:VEVENT
DTSTART;VALUE=DATE:20200506
DTEND;VALUE=DATE:20200508
DTSTAMP:20260425T192410
CREATED:20240917T064311Z
LAST-MODIFIED:20240917T064311Z
UID:12870-1588752000-1588838399@heathfield.ac.th
SUMMARY:Holiday (Visakha Bhucha Day)
DESCRIPTION:
URL:https://heathfield.ac.th/event/holiday-visakha-bhucha-day/
CATEGORIES:Holidays for pupils & teachers
END:VEVENT
BEGIN:VEVENT
DTSTART;VALUE=DATE:20200529
DTEND;VALUE=DATE:20200531
DTSTAMP:20260425T192410
CREATED:20240917T064312Z
LAST-MODIFIED:20240917T064312Z
UID:12871-1590739200-1590825599@heathfield.ac.th
SUMMARY:May Long Weekend
DESCRIPTION:
URL:https://heathfield.ac.th/event/may-long-weekend/
CATEGORIES:Holidays for pupils & teachers
END:VEVENT
END:VCALENDAR