BEGIN:VCALENDAR
VERSION:2.0
PRODID:-//Heathfield International School - ECPv6.15.20//NONSGML v1.0//EN
CALSCALE:GREGORIAN
METHOD:PUBLISH
X-ORIGINAL-URL:https://heathfield.ac.th
X-WR-CALDESC:Events for Heathfield International School
REFRESH-INTERVAL;VALUE=DURATION:PT1H
X-Robots-Tag:noindex
X-PUBLISHED-TTL:PT1H
BEGIN:VTIMEZONE
TZID:Asia/Bangkok
BEGIN:STANDARD
TZOFFSETFROM:+0700
TZOFFSETTO:+0700
TZNAME:+07
DTSTART:20190101T000000
END:STANDARD
END:VTIMEZONE
BEGIN:VEVENT
DTSTART;VALUE=DATE:20200603
DTEND;VALUE=DATE:20200605
DTSTAMP:20260425T175845
CREATED:20240917T064312Z
LAST-MODIFIED:20240917T064312Z
UID:12872-1591171200-1591257599@heathfield.ac.th
SUMMARY:Holiday (Queen Suthida’s birthday)
DESCRIPTION:
URL:https://heathfield.ac.th/event/holiday-queen-suthidas-birthday-2/
CATEGORIES:Holidays for pupils & teachers
END:VEVENT
BEGIN:VEVENT
DTSTART;VALUE=DATE:20200626
DTEND;VALUE=DATE:20200628
DTSTAMP:20260425T175845
CREATED:20240917T065027Z
LAST-MODIFIED:20240917T065027Z
UID:13072-1593158400-1593244799@heathfield.ac.th
SUMMARY:Last Day of Term 3
DESCRIPTION:
URL:https://heathfield.ac.th/event/last-day-of-term-3-5/
CATEGORIES:Important School Days
END:VEVENT
END:VCALENDAR