BEGIN:VCALENDAR
VERSION:2.0
PRODID:-//Heathfield International School - ECPv6.15.20//NONSGML v1.0//EN
CALSCALE:GREGORIAN
METHOD:PUBLISH
X-ORIGINAL-URL:https://heathfield.ac.th
X-WR-CALDESC:Events for Heathfield International School
REFRESH-INTERVAL;VALUE=DURATION:PT1H
X-Robots-Tag:noindex
X-PUBLISHED-TTL:PT1H
BEGIN:VTIMEZONE
TZID:Asia/Bangkok
BEGIN:STANDARD
TZOFFSETFROM:+0700
TZOFFSETTO:+0700
TZNAME:+07
DTSTART:20190101T000000
END:STANDARD
END:VTIMEZONE
BEGIN:VEVENT
DTSTART;VALUE=DATE:20201211
DTEND;VALUE=DATE:20201213
DTSTAMP:20260425T091517
CREATED:20240917T064331Z
LAST-MODIFIED:20240917T064331Z
UID:12882-1607673600-1607759999@heathfield.ac.th
SUMMARY:HOLIDAY and Office Closed (Substitution for H.M. The Late King’s Birthday)
DESCRIPTION:
URL:https://heathfield.ac.th/event/holiday-and-office-closed-substitution-for-h-m-the-late-kings-birthday/
CATEGORIES:Holidays for pupils & teachers
END:VEVENT
BEGIN:VEVENT
DTSTART;VALUE=DATE:20201221
DTEND;VALUE=DATE:20201223
DTSTAMP:20260425T091517
CREATED:20240917T064331Z
LAST-MODIFIED:20240917T064331Z
UID:12883-1608537600-1608623999@heathfield.ac.th
SUMMARY:Christmas Break
DESCRIPTION:
URL:https://heathfield.ac.th/event/christmas-break-5/
CATEGORIES:Holidays for pupils & teachers
END:VEVENT
END:VCALENDAR