BEGIN:VCALENDAR
VERSION:2.0
PRODID:-//Heathfield International School - ECPv6.15.20//NONSGML v1.0//EN
CALSCALE:GREGORIAN
METHOD:PUBLISH
X-ORIGINAL-URL:https://heathfield.ac.th
X-WR-CALDESC:Events for Heathfield International School
REFRESH-INTERVAL;VALUE=DURATION:PT1H
X-Robots-Tag:noindex
X-PUBLISHED-TTL:PT1H
BEGIN:VTIMEZONE
TZID:Asia/Bangkok
BEGIN:STANDARD
TZOFFSETFROM:+0700
TZOFFSETTO:+0700
TZNAME:+07
DTSTART:20200101T000000
END:STANDARD
END:VTIMEZONE
BEGIN:VEVENT
DTSTART;VALUE=DATE:20210101
DTEND;VALUE=DATE:20210103
DTSTAMP:20260425T074044
CREATED:20240917T064346Z
LAST-MODIFIED:20240917T064346Z
UID:12884-1609488000-1609574399@heathfield.ac.th
SUMMARY:Office Closed
DESCRIPTION:
URL:https://heathfield.ac.th/event/office-closed/
CATEGORIES:Holidays for pupils & teachers
END:VEVENT
BEGIN:VEVENT
DTSTART;VALUE=DATE:20210101
DTEND;VALUE=DATE:20210103
DTSTAMP:20260425T074044
CREATED:20240917T064346Z
LAST-MODIFIED:20240917T064346Z
UID:12885-1609488000-1609574399@heathfield.ac.th
SUMMARY:HOLIDAY and Office Closed (New Year)
DESCRIPTION:
URL:https://heathfield.ac.th/event/holiday-and-office-closed-new-year/
CATEGORIES:Holidays for pupils & teachers
END:VEVENT
BEGIN:VEVENT
DTSTART;VALUE=DATE:20210111
DTEND;VALUE=DATE:20210113
DTSTAMP:20260425T074044
CREATED:20240917T065045Z
LAST-MODIFIED:20240917T065045Z
UID:13076-1610352000-1610438399@heathfield.ac.th
SUMMARY:INSET - School closed
DESCRIPTION:
URL:https://heathfield.ac.th/event/inset-school-closed-5/
CATEGORIES:Important School Days
END:VEVENT
BEGIN:VEVENT
DTSTART;VALUE=DATE:20210112
DTEND;VALUE=DATE:20210114
DTSTAMP:20260425T074044
CREATED:20240917T065046Z
LAST-MODIFIED:20240917T065046Z
UID:13078-1610438400-1610524799@heathfield.ac.th
SUMMARY:First Day of Term 2a
DESCRIPTION:
URL:https://heathfield.ac.th/event/first-day-of-term-2a-2/
CATEGORIES:Important School Days
END:VEVENT
END:VCALENDAR