BEGIN:VCALENDAR
VERSION:2.0
PRODID:-//Heathfield International School - ECPv6.15.20//NONSGML v1.0//EN
CALSCALE:GREGORIAN
METHOD:PUBLISH
X-ORIGINAL-URL:https://heathfield.ac.th
X-WR-CALDESC:Events for Heathfield International School
REFRESH-INTERVAL;VALUE=DURATION:PT1H
X-Robots-Tag:noindex
X-PUBLISHED-TTL:PT1H
BEGIN:VTIMEZONE
TZID:Asia/Bangkok
BEGIN:STANDARD
TZOFFSETFROM:+0700
TZOFFSETTO:+0700
TZNAME:+07
DTSTART:20200101T000000
END:STANDARD
END:VTIMEZONE
BEGIN:VEVENT
DTSTART;VALUE=DATE:20210301
DTEND;VALUE=DATE:20210303
DTSTAMP:20260425T045212
CREATED:20240917T065046Z
LAST-MODIFIED:20240917T065046Z
UID:13079-1614585600-1614671999@heathfield.ac.th
SUMMARY:Term 2b starts
DESCRIPTION:
URL:https://heathfield.ac.th/event/term-2b-starts/
CATEGORIES:Important School Days
END:VEVENT
END:VCALENDAR