BEGIN:VCALENDAR
VERSION:2.0
PRODID:-//Heathfield International School - ECPv6.15.20//NONSGML v1.0//EN
CALSCALE:GREGORIAN
METHOD:PUBLISH
X-ORIGINAL-URL:https://heathfield.ac.th
X-WR-CALDESC:Events for Heathfield International School
REFRESH-INTERVAL;VALUE=DURATION:PT1H
X-Robots-Tag:noindex
X-PUBLISHED-TTL:PT1H
BEGIN:VTIMEZONE
TZID:Asia/Bangkok
BEGIN:STANDARD
TZOFFSETFROM:+0700
TZOFFSETTO:+0700
TZNAME:+07
DTSTART:20200101T000000
END:STANDARD
END:VTIMEZONE
BEGIN:VEVENT
DTSTART;VALUE=DATE:20210726
DTEND;VALUE=DATE:20210728
DTSTAMP:20260424T231357
CREATED:20240917T064407Z
LAST-MODIFIED:20240917T064409Z
UID:12894-1627286400-1627372799@heathfield.ac.th
SUMMARY:Office Closed (Substitution for Asarnha Bucha Day)
DESCRIPTION:
URL:https://heathfield.ac.th/event/office-closed-substitution-for-asarnha-bucha-day/
CATEGORIES:Holidays for pupils & teachers
END:VEVENT
BEGIN:VEVENT
DTSTART;VALUE=DATE:20210727
DTEND;VALUE=DATE:20210729
DTSTAMP:20260424T231357
CREATED:20240917T064407Z
LAST-MODIFIED:20240917T064409Z
UID:12895-1627372800-1627459199@heathfield.ac.th
SUMMARY:Office Closed (Substitution Buddhist Lent Day)\,
DESCRIPTION:
URL:https://heathfield.ac.th/event/office-closed-substitution-buddhist-lent-day/
CATEGORIES:Holidays for pupils & teachers
END:VEVENT
BEGIN:VEVENT
DTSTART;VALUE=DATE:20210728
DTEND;VALUE=DATE:20210730
DTSTAMP:20260424T231357
CREATED:20240917T064407Z
LAST-MODIFIED:20240917T064409Z
UID:12896-1627459200-1627545599@heathfield.ac.th
SUMMARY:Office Closed (H.M. the King's)
DESCRIPTION:
URL:https://heathfield.ac.th/event/office-closed-h-m-the-kings/
CATEGORIES:Holidays for pupils & teachers
END:VEVENT
END:VCALENDAR