BEGIN:VCALENDAR
VERSION:2.0
PRODID:-//Heathfield International School - ECPv6.15.20//NONSGML v1.0//EN
CALSCALE:GREGORIAN
METHOD:PUBLISH
X-WR-CALNAME:Heathfield International School
X-ORIGINAL-URL:https://heathfield.ac.th
X-WR-CALDESC:Events for Heathfield International School
REFRESH-INTERVAL;VALUE=DURATION:PT1H
X-Robots-Tag:noindex
X-PUBLISHED-TTL:PT1H
BEGIN:VTIMEZONE
TZID:Asia/Bangkok
BEGIN:STANDARD
TZOFFSETFROM:+0700
TZOFFSETTO:+0700
TZNAME:+07
DTSTART:20200101T000000
END:STANDARD
END:VTIMEZONE
BEGIN:VEVENT
DTSTART;VALUE=DATE:20210809
DTEND;VALUE=DATE:20210811
DTSTAMP:20260424T220031
CREATED:20240917T065104Z
LAST-MODIFIED:20240917T065104Z
UID:13085-1628496000-1628582399@heathfield.ac.th
SUMMARY:INSET - School closed
DESCRIPTION:
URL:https://heathfield.ac.th/event/inset-school-closed-7/
CATEGORIES:Important School Days
END:VEVENT
BEGIN:VEVENT
DTSTART;VALUE=DATE:20210812
DTEND;VALUE=DATE:20210814
DTSTAMP:20260424T220031
CREATED:20240917T065105Z
LAST-MODIFIED:20240917T065105Z
UID:13086-1628755200-1628841599@heathfield.ac.th
SUMMARY:Office Closed (H.M. Queen Sirikit's Birthday)
DESCRIPTION:
URL:https://heathfield.ac.th/event/office-closed-h-m-queen-sirikits-birthday-2/
CATEGORIES:Important School Days
END:VEVENT
END:VCALENDAR