BEGIN:VCALENDAR
VERSION:2.0
PRODID:-//Heathfield International School - ECPv6.15.20//NONSGML v1.0//EN
CALSCALE:GREGORIAN
METHOD:PUBLISH
X-WR-CALNAME:Heathfield International School
X-ORIGINAL-URL:https://heathfield.ac.th
X-WR-CALDESC:Events for Heathfield International School
REFRESH-INTERVAL;VALUE=DURATION:PT1H
X-Robots-Tag:noindex
X-PUBLISHED-TTL:PT1H
BEGIN:VTIMEZONE
TZID:Asia/Bangkok
BEGIN:STANDARD
TZOFFSETFROM:+0700
TZOFFSETTO:+0700
TZNAME:+07
DTSTART:20210101T000000
END:STANDARD
END:VTIMEZONE
BEGIN:VEVENT
DTSTART;VALUE=DATE:20221025
DTEND;VALUE=DATE:20221027
DTSTAMP:20260424T032523
CREATED:20240917T065105Z
LAST-MODIFIED:20240917T065105Z
UID:13089-1666684800-1666771199@heathfield.ac.th
SUMMARY:First day of Term 1b
DESCRIPTION:
URL:https://heathfield.ac.th/event/first-day-of-term-1b/
CATEGORIES:Important School Days
END:VEVENT
END:VCALENDAR