BEGIN:VCALENDAR
VERSION:2.0
PRODID:-//Heathfield International School - ECPv6.15.20//NONSGML v1.0//EN
CALSCALE:GREGORIAN
METHOD:PUBLISH
X-ORIGINAL-URL:https://heathfield.ac.th
X-WR-CALDESC:Events for Heathfield International School
REFRESH-INTERVAL;VALUE=DURATION:PT1H
X-Robots-Tag:noindex
X-PUBLISHED-TTL:PT1H
BEGIN:VTIMEZONE
TZID:Asia/Bangkok
BEGIN:STANDARD
TZOFFSETFROM:+0700
TZOFFSETTO:+0700
TZNAME:+07
DTSTART:20220101T000000
END:STANDARD
END:VTIMEZONE
BEGIN:VEVENT
DTSTART;VALUE=DATE:20230109
DTEND;VALUE=DATE:20230111
DTSTAMP:20260423T232932
CREATED:20240917T064408Z
LAST-MODIFIED:20240917T064409Z
UID:12898-1673251200-1673337599@heathfield.ac.th
SUMMARY:INSET - School closed
DESCRIPTION:
URL:https://heathfield.ac.th/event/inset-school-closed/
CATEGORIES:Holidays for pupils & teachers
END:VEVENT
BEGIN:VEVENT
DTSTART;VALUE=DATE:20230110
DTEND;VALUE=DATE:20230112
DTSTAMP:20260423T232932
CREATED:20240917T065145Z
LAST-MODIFIED:20240917T065145Z
UID:13093-1673337600-1673423999@heathfield.ac.th
SUMMARY:First Day of Term 2a
DESCRIPTION:
URL:https://heathfield.ac.th/event/first-day-of-term-2a-3/
CATEGORIES:Important School Days
END:VEVENT
END:VCALENDAR