BEGIN:VCALENDAR
VERSION:2.0
PRODID:-//Heathfield International School - ECPv6.15.20//NONSGML v1.0//EN
CALSCALE:GREGORIAN
METHOD:PUBLISH
X-WR-CALNAME:Heathfield International School
X-ORIGINAL-URL:https://heathfield.ac.th
X-WR-CALDESC:Events for Heathfield International School
REFRESH-INTERVAL;VALUE=DURATION:PT1H
X-Robots-Tag:noindex
X-PUBLISHED-TTL:PT1H
BEGIN:VTIMEZONE
TZID:Asia/Bangkok
BEGIN:STANDARD
TZOFFSETFROM:+0700
TZOFFSETTO:+0700
TZNAME:+07
DTSTART:20220101T000000
END:STANDARD
END:VTIMEZONE
BEGIN:VEVENT
DTSTART;VALUE=DATE:20230814
DTEND;VALUE=DATE:20230816
DTSTAMP:20260422T042856
CREATED:20240917T064427Z
LAST-MODIFIED:20240917T064427Z
UID:12906-1692000000-1692086399@heathfield.ac.th
SUMMARY:New staff induction and INSET - School closed
DESCRIPTION:
URL:https://heathfield.ac.th/event/new-staff-induction-and-inset-school-closed/
CATEGORIES:Holidays for pupils & teachers
END:VEVENT
BEGIN:VEVENT
DTSTART;VALUE=DATE:20230821
DTEND;VALUE=DATE:20230823
DTSTAMP:20260422T042856
CREATED:20240917T065145Z
LAST-MODIFIED:20240917T065145Z
UID:13095-1692604800-1692691199@heathfield.ac.th
SUMMARY:First Day Term of 1a
DESCRIPTION:
URL:https://heathfield.ac.th/event/first-day-term-of-1a/
CATEGORIES:Important School Days
END:VEVENT
END:VCALENDAR