BEGIN:VCALENDAR
VERSION:2.0
PRODID:-//Heathfield International School - ECPv6.15.20//NONSGML v1.0//EN
CALSCALE:GREGORIAN
METHOD:PUBLISH
X-ORIGINAL-URL:https://heathfield.ac.th
X-WR-CALDESC:Events for Heathfield International School
REFRESH-INTERVAL;VALUE=DURATION:PT1H
X-Robots-Tag:noindex
X-PUBLISHED-TTL:PT1H
BEGIN:VTIMEZONE
TZID:Asia/Bangkok
BEGIN:STANDARD
TZOFFSETFROM:+0700
TZOFFSETTO:+0700
TZNAME:+07
DTSTART:20220101T000000
END:STANDARD
END:VTIMEZONE
BEGIN:VEVENT
DTSTART;VALUE=DATE:20231012
DTEND;VALUE=DATE:20231014
DTSTAMP:20260422T004726
CREATED:20240917T065145Z
LAST-MODIFIED:20240917T065145Z
UID:13096-1697097600-1697183999@heathfield.ac.th
SUMMARY:Last Day of Term 1a
DESCRIPTION:
URL:https://heathfield.ac.th/event/last-day-of-term-1a-2/
CATEGORIES:Important School Days
END:VEVENT
BEGIN:VEVENT
DTSTART;VALUE=DATE:20231013
DTEND;VALUE=DATE:20231015
DTSTAMP:20260422T004726
CREATED:20240917T064427Z
LAST-MODIFIED:20240917T064427Z
UID:12907-1697184000-1697270399@heathfield.ac.th
SUMMARY:Office Closed (H.M. The Late King’s Memorial Day)
DESCRIPTION:
URL:https://heathfield.ac.th/event/office-closed-h-m-the-late-kings-memorial-day/
CATEGORIES:Holidays for pupils & teachers
END:VEVENT
BEGIN:VEVENT
DTSTART;VALUE=DATE:20231023
DTEND;VALUE=DATE:20231025
DTSTAMP:20260422T004726
CREATED:20240917T064428Z
LAST-MODIFIED:20240917T064428Z
UID:12908-1698048000-1698134399@heathfield.ac.th
SUMMARY:Office Closed (Chulalongkorn Memorial Day)
DESCRIPTION:
URL:https://heathfield.ac.th/event/office-closed-chulalongkorn-memorial-day/
CATEGORIES:Holidays for pupils & teachers
END:VEVENT
BEGIN:VEVENT
DTSTART;VALUE=DATE:20231024
DTEND;VALUE=DATE:20231026
DTSTAMP:20260422T004726
CREATED:20240917T065146Z
LAST-MODIFIED:20240917T065146Z
UID:13097-1698134400-1698220799@heathfield.ac.th
SUMMARY:First day of Term 1b
DESCRIPTION:
URL:https://heathfield.ac.th/event/first-day-of-term-1b-2/
CATEGORIES:Important School Days
END:VEVENT
END:VCALENDAR