BEGIN:VCALENDAR
VERSION:2.0
PRODID:-//Heathfield International School - ECPv6.15.20//NONSGML v1.0//EN
CALSCALE:GREGORIAN
METHOD:PUBLISH
X-ORIGINAL-URL:https://heathfield.ac.th
X-WR-CALDESC:Events for Heathfield International School
REFRESH-INTERVAL;VALUE=DURATION:PT1H
X-Robots-Tag:noindex
X-PUBLISHED-TTL:PT1H
BEGIN:VTIMEZONE
TZID:Asia/Bangkok
BEGIN:STANDARD
TZOFFSETFROM:+0700
TZOFFSETTO:+0700
TZNAME:+07
DTSTART:20220101T000000
END:STANDARD
END:VTIMEZONE
BEGIN:VEVENT
DTSTART;VALUE=DATE:20231205
DTEND;VALUE=DATE:20231207
DTSTAMP:20260421T212017
CREATED:20240917T064434Z
LAST-MODIFIED:20240917T064434Z
UID:12909-1701763200-1701849599@heathfield.ac.th
SUMMARY:HOLIDAY and Office Closed (Substitution for H.M. The Late King’s Birthday)
DESCRIPTION:
URL:https://heathfield.ac.th/event/holiday-and-office-closed-substitution-for-h-m-the-late-kings-birthday-2/
CATEGORIES:Holidays for pupils & teachers
END:VEVENT
END:VCALENDAR